BEGIN:VCALENDAR
VERSION:2.0
PRODID:-//EAA Chapter 17 - East Tennessee - ECPv6.15.20//NONSGML v1.0//EN
CALSCALE:GREGORIAN
METHOD:PUBLISH
X-WR-CALNAME:EAA Chapter 17 - East Tennessee
X-ORIGINAL-URL:https://eaa17.org
X-WR-CALDESC:Events for EAA Chapter 17 - East Tennessee
REFRESH-INTERVAL;VALUE=DURATION:PT1H
X-Robots-Tag:noindex
X-PUBLISHED-TTL:PT1H
BEGIN:VTIMEZONE
TZID:America/New_York
BEGIN:DAYLIGHT
TZOFFSETFROM:-0500
TZOFFSETTO:-0400
TZNAME:EDT
DTSTART:20170312T070000
END:DAYLIGHT
BEGIN:STANDARD
TZOFFSETFROM:-0400
TZOFFSETTO:-0500
TZNAME:EST
DTSTART:20171105T060000
END:STANDARD
BEGIN:DAYLIGHT
TZOFFSETFROM:-0500
TZOFFSETTO:-0400
TZNAME:EDT
DTSTART:20180311T070000
END:DAYLIGHT
BEGIN:STANDARD
TZOFFSETFROM:-0400
TZOFFSETTO:-0500
TZNAME:EST
DTSTART:20181104T060000
END:STANDARD
BEGIN:DAYLIGHT
TZOFFSETFROM:-0500
TZOFFSETTO:-0400
TZNAME:EDT
DTSTART:20190310T070000
END:DAYLIGHT
BEGIN:STANDARD
TZOFFSETFROM:-0400
TZOFFSETTO:-0500
TZNAME:EST
DTSTART:20191103T060000
END:STANDARD
BEGIN:DAYLIGHT
TZOFFSETFROM:-0500
TZOFFSETTO:-0400
TZNAME:EDT
DTSTART:20200308T070000
END:DAYLIGHT
BEGIN:STANDARD
TZOFFSETFROM:-0400
TZOFFSETTO:-0500
TZNAME:EST
DTSTART:20201101T060000
END:STANDARD
BEGIN:DAYLIGHT
TZOFFSETFROM:-0500
TZOFFSETTO:-0400
TZNAME:EDT
DTSTART:20210314T070000
END:DAYLIGHT
BEGIN:STANDARD
TZOFFSETFROM:-0400
TZOFFSETTO:-0500
TZNAME:EST
DTSTART:20211107T060000
END:STANDARD
BEGIN:DAYLIGHT
TZOFFSETFROM:-0500
TZOFFSETTO:-0400
TZNAME:EDT
DTSTART:20220313T070000
END:DAYLIGHT
BEGIN:STANDARD
TZOFFSETFROM:-0400
TZOFFSETTO:-0500
TZNAME:EST
DTSTART:20221106T060000
END:STANDARD
BEGIN:DAYLIGHT
TZOFFSETFROM:-0500
TZOFFSETTO:-0400
TZNAME:EDT
DTSTART:20230312T070000
END:DAYLIGHT
BEGIN:STANDARD
TZOFFSETFROM:-0400
TZOFFSETTO:-0500
TZNAME:EST
DTSTART:20231105T060000
END:STANDARD
BEGIN:DAYLIGHT
TZOFFSETFROM:-0500
TZOFFSETTO:-0400
TZNAME:EDT
DTSTART:20240310T070000
END:DAYLIGHT
BEGIN:STANDARD
TZOFFSETFROM:-0400
TZOFFSETTO:-0500
TZNAME:EST
DTSTART:20241103T060000
END:STANDARD
BEGIN:DAYLIGHT
TZOFFSETFROM:-0500
TZOFFSETTO:-0400
TZNAME:EDT
DTSTART:20250309T070000
END:DAYLIGHT
BEGIN:STANDARD
TZOFFSETFROM:-0400
TZOFFSETTO:-0500
TZNAME:EST
DTSTART:20251102T060000
END:STANDARD
END:VTIMEZONE
BEGIN:VTIMEZONE
TZID:America/Chicago
BEGIN:DAYLIGHT
TZOFFSETFROM:-0600
TZOFFSETTO:-0500
TZNAME:CDT
DTSTART:20230312T080000
END:DAYLIGHT
BEGIN:STANDARD
TZOFFSETFROM:-0500
TZOFFSETTO:-0600
TZNAME:CST
DTSTART:20231105T070000
END:STANDARD
BEGIN:DAYLIGHT
TZOFFSETFROM:-0600
TZOFFSETTO:-0500
TZNAME:CDT
DTSTART:20240310T080000
END:DAYLIGHT
BEGIN:STANDARD
TZOFFSETFROM:-0500
TZOFFSETTO:-0600
TZNAME:CST
DTSTART:20241103T070000
END:STANDARD
BEGIN:DAYLIGHT
TZOFFSETFROM:-0600
TZOFFSETTO:-0500
TZNAME:CDT
DTSTART:20250309T080000
END:DAYLIGHT
BEGIN:STANDARD
TZOFFSETFROM:-0500
TZOFFSETTO:-0600
TZNAME:CST
DTSTART:20251102T070000
END:STANDARD
END:VTIMEZONE
BEGIN:VEVENT
DTSTART;TZID=America/New_York:20241019T140000
DTEND;TZID=America/New_York:20241019T190000
DTSTAMP:20260419T122027
CREATED:20240814T051855Z
LAST-MODIFIED:20240910T024557Z
UID:4343-1729346400-1729364400@eaa17.org
SUMMARY:Deerfield Octoberfest
DESCRIPTION:
URL:https://eaa17.org/event/deerfield-octoberfest/
LOCATION:Deerfield Resort [TN44]\, 1235 DEERFIELD WAY\, LAFOLLETTE\, TN\, 37766\, United States
CATEGORIES:Fly-in
ATTACH;FMTTYPE=image/webp:https://eaa17.org/wp-content/uploads/2024/08/Re-TN44-Oktoberfest-invite-2024-meeverett-gmail-com-Gmail.webp
END:VEVENT
BEGIN:VEVENT
DTSTART;VALUE=DATE:20241010
DTEND;VALUE=DATE:20241014
DTSTAMP:20260419T122027
CREATED:20240711T195630Z
LAST-MODIFIED:20240814T051553Z
UID:4312-1728518400-1728863999@eaa17.org
SUMMARY:Trimotor Rides at Endeavor
DESCRIPTION:
URL:https://eaa17.org/event/trimotor-rides-at-endeavor/
LOCATION:Endeavor Hangar\, 330 Flagship Knoxville Dr\, Alcoa\, TN\, 37701\, United States
END:VEVENT
BEGIN:VEVENT
DTSTART;TZID=America/New_York:20241007T180000
DTEND;TZID=America/New_York:20241007T203000
DTSTAMP:20260419T122027
CREATED:20240204T062853Z
LAST-MODIFIED:20240831T123739Z
UID:4178-1728324000-1728333000@eaa17.org
SUMMARY:Regular Chapter Gathering
DESCRIPTION:Join us for our regular chapter meeting on October 7th. Social time starts at 6pm. \nJay McKinley\, Maintenance manager for Endeavor Airlines\, will give us a presentation on maintenance safety practices. \nHope to see you there!
URL:https://eaa17.org/event/regular-chapter-meeting-7/
LOCATION:TN
CATEGORIES:Club Meetings
ATTACH;FMTTYPE=image/jpeg:https://eaa17.org/wp-content/uploads/2023/02/PXL_20220714_134236867.jpg
END:VEVENT
BEGIN:VEVENT
DTSTART;VALUE=DATE:20240923
DTEND;VALUE=DATE:20240930
DTSTAMP:20260419T122027
CREATED:20240204T063750Z
LAST-MODIFIED:20241125T230948Z
UID:4186-1727049600-1727654399@eaa17.org
SUMMARY:Triple Tree Aerodome Fly In
DESCRIPTION:Join us in Woodruff\, South Carolina\, for the annual Triple Tree Fly In event! \nTriple Tree offers: \n\n7\,000 x 400 ft. manicured bentgrass runway\nRestored WWII  control tower\n440 acre site\nUnlimited exceptional camping sites\nUnrivaled\, CLEAN bath facilities with private showers and granite countertops\nOver six miles of hiking trails\nFishing  yes\, you can eat them while on-site\nFriendliest staff\nGreat food\nGreat educational seminars\nFun social events\nWorld’s most beautiful aviation facility\nFUN\, Fellowship and Hospitality – Guaranteed!!!\nPlease plan to join us for the Triple Tree Fly-In!
URL:https://eaa17.org/event/triple-tree-aerodome-fly-in/
LOCATION:SC00 (Triple Tree\, SC)\, 330 Mary Hanna Rd.\, Woodruff\, SC\, 29388\, United States
END:VEVENT
BEGIN:VEVENT
DTSTART;TZID=America/New_York:20240921T100000
DTEND;TZID=America/New_York:20240921T150000
DTSTAMP:20260419T122027
CREATED:20240316T055810Z
LAST-MODIFIED:20240316T055810Z
UID:4254-1726912800-1726930800@eaa17.org
SUMMARY:Chapter 1494 Fly-in & Drive-in at the Morristown Airport
DESCRIPTION:
URL:https://eaa17.org/event/chapter-1494-fly-in-drive-in-at-the-morristown-airport/
LOCATION:KMOR (Morristown Regional Airport)\, 5233 Old Hwy 11E\, Morristown\, TN\, United States
CATEGORIES:Fly-in
ORGANIZER;CN="EAA Chapter 1494":MAILTO:EAAChapter1494@gmail.com
END:VEVENT
BEGIN:VEVENT
DTSTART;TZID=America/New_York:20240907T110000
DTEND;TZID=America/New_York:20240907T180000
DTSTAMP:20260419T122027
CREATED:20240831T125219Z
LAST-MODIFIED:20240831T125219Z
UID:4352-1725706800-1725732000@eaa17.org
SUMMARY:Mark Anton Municipal Airport Wings on Display
DESCRIPTION:
URL:https://eaa17.org/event/mark-anton-municipal-airport-wings-on-display/
LOCATION:Mark Anton Airport (2A0)\, 350 Walter Squire Rd\, Dayton\, TN\, 37321\, United States
CATEGORIES:Fly-in
ATTACH;FMTTYPE=image/webp:https://eaa17.org/wp-content/uploads/2024/08/Airport-Day.webp
END:VEVENT
BEGIN:VEVENT
DTSTART;VALUE=DATE:20240902
DTEND;VALUE=DATE:20240903
DTSTAMP:20260419T122027
CREATED:20240204T063501Z
LAST-MODIFIED:20240204T063501Z
UID:4184-1725235200-1725321599@eaa17.org
SUMMARY:NO SEPTEMBER GATHERING - LABOR DAY-
DESCRIPTION:There will not be a regular gathering in September\, due to Labor Day. \nSee you October 7th!
URL:https://eaa17.org/event/no-september-gathering-labor-day-2/
LOCATION:TN
END:VEVENT
BEGIN:VEVENT
DTSTART;VALUE=DATE:20240722
DTEND;VALUE=DATE:20240729
DTSTAMP:20260419T122027
CREATED:20240204T063835Z
LAST-MODIFIED:20240204T063835Z
UID:4185-1721606400-1722211199@eaa17.org
SUMMARY:EAA AirVenture 2024
DESCRIPTION:
URL:https://eaa17.org/event/eaa-airventure-2024/
LOCATION:Wittman Regional Airport\, Oshkosh\, WI\, 54902\, United States
CATEGORIES:Airshow,Fly-in
END:VEVENT
BEGIN:VEVENT
DTSTART;TZID=America/New_York:20240701T180000
DTEND;TZID=America/New_York:20240701T203000
DTSTAMP:20260419T122027
CREATED:20240204T052143Z
LAST-MODIFIED:20240424T160239Z
UID:4172-1719856800-1719865800@eaa17.org
SUMMARY:Regular Chapter Gathering
DESCRIPTION:Join us for our regular chapter meeting on July 1st. Social time starts at 6pm. \nTentative At our July meeting\, we will hear from Rob Voyles on happenings around DKX as well as from Ivy McIver with an update on Friends of Downtown Island. \nHope to see you there!
URL:https://eaa17.org/event/regular-chapter-meeting-5/
LOCATION:TN
CATEGORIES:Club Meetings
ATTACH;FMTTYPE=image/jpeg:https://eaa17.org/wp-content/uploads/2023/02/PXL_20220714_134236867.jpg
END:VEVENT
BEGIN:VEVENT
DTSTART;TZID=America/New_York:20240622T100000
DTEND;TZID=America/New_York:20240622T140000
DTSTAMP:20260419T122027
CREATED:20240316T060232Z
LAST-MODIFIED:20240316T060232Z
UID:4260-1719050400-1719064800@eaa17.org
SUMMARY:Splash-in on Douglas Lake
DESCRIPTION:
URL:https://eaa17.org/event/splash-in-on-douglas-lake/
LOCATION:882 Lakeshore Drive\, Dandridge\, TN\, 882 Lakeshore Drive\, Dandridge\, TN\, 37725\, United States
CATEGORIES:Fly-in
ORGANIZER;CN="EAA Chapter 1494":MAILTO:EAAChapter1494@gmail.com
END:VEVENT
BEGIN:VEVENT
DTSTART;TZID=America/New_York:20240603T180000
DTEND;TZID=America/New_York:20240603T203000
DTSTAMP:20260419T122027
CREATED:20240204T052001Z
LAST-MODIFIED:20240424T155827Z
UID:4171-1717437600-1717446600@eaa17.org
SUMMARY:Regular Chapter Gathering
DESCRIPTION:Join us for our regular chapter meeting on June 3rd. Social time starts at 6pm. \nAt our June meeting\, we will have a presentation by Gary Arthur on Aerial Firefighting. \nHope to see you there!
URL:https://eaa17.org/event/regular-chapter-meeting-4/
LOCATION:TN
CATEGORIES:Club Meetings
ATTACH;FMTTYPE=image/jpeg:https://eaa17.org/wp-content/uploads/2023/02/PXL_20220714_134236867.jpg
END:VEVENT
BEGIN:VEVENT
DTSTART;TZID=America/New_York:20240510T180000
DTEND;TZID=America/New_York:20240512T120000
DTSTAMP:20260419T122027
CREATED:20240204T064029Z
LAST-MODIFIED:20240424T194005Z
UID:4192-1715364000-1715515200@eaa17.org
SUMMARY:Fly-in camping at MNV
DESCRIPTION:May 11th weekend we will be at MNV Monroe County Airport at 350 Airport Rd Madisonville TN.  Some of us will arrive on the 10th to camp for the weekend.  Airport manager Tom McCosh\, will be hosting us and serving lunch at 1pm on Saturday. The tentative menu is Hamburgers\, Brats\, Hot Dogs\, baked beans\, potato salad\, chips\, and drinks for $10.00 a plate. Feel free to bring either a desert or a salad to share. Please RSVP to me at george@oilhelp.com so Tom can plan for the amount of food needed. \nAfter lunch George Mueller will be holding a spot landing contest. First\, second\, and third place winners will receive a beautiful Trophy. There will be a recommended entry donation. Those who plan to enter the spot landing contest should contact George Mueller at 901-832-3917 or at jetdude56@gmail.com. \nMichel Gadbois\, is bringing his 4K VR headset and MS flight simulator for members to give it a try. \nCAF PT-19 Rides \nGeorge & Theresa Mueller have arranged with the Lebanon TN wing of the CAF\, for a PT-19 to offer rides at MNV during our Fly-in Cookout on May 11th. \nCost is $195/20 minute ride and rides should be scheduled on the Music City Wing website here cafmusiccity.org. You can also learn more of the history of this open cockpit World War II trainer and access the “PX” store. There will be a limited amount of PX items available to purchase at all 3 airports while supplies last. \nThe PT-19 is assigned to the Music City Squadron located in Lebanon TN and will be flying/doing the “Rides” program at 3 Knoxville area airports pending weather: \n\nMay 10: Tennessee Museum of Aviation\, 135 Air Museum Way\, Sevierville\, TN. 37862. It is co-located on the Gatlinburg-Pigeon Forge Airport. Currently scheduled to fly and do the “Rides” program from approximately 1400-1700 (Subject to change) Museum will be open from 1000-1800.\nMay 11: Monroe County Airport\, 350 Airport Rd\, Madisonville\, TN. 37874. Currently scheduled to fly and do the “Rides” program from approximately 14:30-17:30 (subject to change) following Spot Landing Contest.\nMay 12: Endeavor Airlines Maintenance Hangar\, 330 Flagship Knoxville Dr\, Alcoa\, TN. 37701. It is located on the southwest side of McGhee-Tyson Airport and NOT on the Military or Passenger Terminal areas. Currently scheduled to fly and do the “Rides” program from 1400-1700 (Subject to change). The front door would be the main access point to get into the hangar.\n\nFor any questions\, please let me know.\nWarm regards\,\nGeorge Douglas\n321-663-5391 president@eaa17.org
URL:https://eaa17.org/event/fly-in-camping-at-mnv/
LOCATION:MNV – Monroe Co.\, Tenn.\, 350 Airport Rd\, Madisonville\, TN\, 37354\, United States
CATEGORIES:Fly-in
END:VEVENT
BEGIN:VEVENT
DTSTART;VALUE=DATE:20240503
DTEND;VALUE=DATE:20240506
DTSTAMP:20260419T122027
CREATED:20240204T064840Z
LAST-MODIFIED:20240424T161319Z
UID:4195-1714694400-1714953599@eaa17.org
SUMMARY:Spring BBQ Fly In at Meadowlake Airpark 12TN
DESCRIPTION:We’ll be hosting lunch on May 4th during the fly in at 12TN Meadowlake Airpark at 159 Anglers Cove Road Kingston\, TN. Some of us will be camping for the weekend and then serving lunch at 1pm on that Saturday. The youth\, past and present scholars from the SkyRanch Youth Program\, will do the serving of food at $8.00 a plate\, while we will do the grilling for them. Hot Dogs\, Hamburgers\, chips\, and drinks will be the menu of the day. Any profit will go directly to help support the SkyRanch program.
URL:https://eaa17.org/event/spring-bbq-fly-in-at-meadowlake-airpark-12tn/
LOCATION:Meadowlake Airpark (12TN)\, 159 Anglers Cove Rd\, Kingston\, TN\, 37763\, United States
CATEGORIES:Fly-in
ATTACH;FMTTYPE=image/jpeg:https://eaa17.org/wp-content/uploads/2024/02/Meadowlake-Airpark-Fly-in_May24.pptx.jpg
END:VEVENT
BEGIN:VEVENT
DTSTART;TZID=America/New_York:20240413T100000
DTEND;TZID=America/New_York:20240413T140000
DTSTAMP:20260419T122027
CREATED:20240316T055216Z
LAST-MODIFIED:20240316T055216Z
UID:4251-1713002400-1713016800@eaa17.org
SUMMARY:DKX Open House
DESCRIPTION:
URL:https://eaa17.org/event/dkx-open-house/
LOCATION:DKX (Downtown Island Airport\, Knoxville\, TN)\, 2701 Spence Pl\, Knoxville\, TN\, 37920\, United States
ATTACH;FMTTYPE=image/jpeg:https://eaa17.org/wp-content/uploads/2024/03/432549477_811280304363733_1122206559771655299_n.jpg
END:VEVENT
BEGIN:VEVENT
DTSTART;VALUE=DATE:20240409
DTEND;VALUE=DATE:20240415
DTSTAMP:20260419T122027
CREATED:20240204T063619Z
LAST-MODIFIED:20240204T063619Z
UID:4183-1712620800-1713139199@eaa17.org
SUMMARY:Sun n Fun 2024
DESCRIPTION:
URL:https://eaa17.org/event/sun-n-fun-2024/
LOCATION:Lakeland Florida Airport\, 4175 Medulla Rd\, Lakeland\, FL\, 33811\, United States
CATEGORIES:Airshow,Fly-in
END:VEVENT
BEGIN:VEVENT
DTSTART;TZID=America/New_York:20240203T090000
DTEND;TZID=America/New_York:20240203T120000
DTSTAMP:20260419T122027
CREATED:20240131T072647Z
LAST-MODIFIED:20240131T073008Z
UID:4143-1706950800-1706961600@eaa17.org
SUMMARY:Young Eagles at Madisonville (MNV)
DESCRIPTION: 
URL:https://eaa17.org/event/mnv-young-eagles-020324/
LOCATION:MNV – Monroe Co.\, Tenn.\, 350 Airport Rd\, Madisonville\, TN\, 37354\, United States
CATEGORIES:Young Eagles
ATTACH;FMTTYPE=image/jpeg:https://eaa17.org/wp-content/uploads/2021/03/Young-Eagles-2017-6176.jpg
END:VEVENT
BEGIN:VEVENT
DTSTART;TZID=America/New_York:20181203T180000
DTEND;TZID=America/New_York:20181203T203000
DTSTAMP:20260419T122027
CREATED:20181202T202553Z
LAST-MODIFIED:20181202T202403Z
UID:1878-1543860000-1543869000@eaa17.org
SUMMARY:December Chapter 17 Monthly Gathering
DESCRIPTION:Gather at the McGhee-Tyson 510 Building. \nOur December 3rd meeting will be more of a social event with good food to share. We plan to have ham\, potatoes\, green beans\, rolls\, and hopefully lots of good deserts that just show up. \n 
URL:https://eaa17.org/event/december-chapter-17-monthly-gathering/
LOCATION:KTYS – Airport Operations Center\, 100 Cirrus Lndg\, Alcoa\, TN\, 37701\, United States
CATEGORIES:Club Meetings
END:VEVENT
BEGIN:VEVENT
DTSTART;TZID=America/New_York:20181115T190000
DTEND;TZID=America/New_York:20181115T213000
DTSTAMP:20260419T122027
CREATED:20181104T182252Z
LAST-MODIFIED:20181115T001639Z
UID:1858-1542308400-1542317400@eaa17.org
SUMMARY:CANCELLED - ADS-B and Me - NextGen Aviation Learning Event at Knoxville McGhee Tyson Airport
DESCRIPTION:THIS EVENT HAS BEEN CANCELLED \n  \n  \n“ADS-B and Me – NextGen Aviation Learning Event at Knoxville McGhee Tyson Airport”\nTopic: Highly Rated NextGen Aviation Learning Event Near YOU!\nOn Thursday\, November 15\, 2018 at 19:00 Eastern Standard Time\nLocation:\nMcGhee Tyson Airport\n2950 Airfield Service Drive \nAlcoa\, TN 37701 \nSelect Number:\nCE1985277 \nDescription: \nCome learn about ADS-B / NextGen Aviation and how you can prepare yourself and your aircraft to take advantage of this important enhancement to our national airspace that is now operational.  This is avionics news you can use from experts.   Learn what’s behind ADS-B – why it matters and how it works.  \nYou’ll learn about ADS-B benefits.  The session addresses various myths about the topic\, and explains how ADS-B works.  A major focus of the session is coverage of practical things you should consider as you think about how to equip your aircraft to comply with the FAA Mandate for ADS-B equipage. \nJanuary 1\, 2020\, will be here before you know it!   Experts from Carpenter Avionics\, a multi-year\, national award-winning avionics service center from Music City\, will drive the presentation.  This educational session will cover a broad array of types of equipment\, brands\, and more with a focus on what ADS-B means to you.  Demo systems allow hands-on experience.  The Q&A session will allow discussion of specific questions you may have regarding how to approach ADS-S for your specific aircraft. \nTo view further details and registration information for this seminar\, click here. \nThe sponsor for this seminar is: FAASTeam
URL:https://eaa17.org/event/ads-b-and-me-nextgen-aviation-learning-event-at-knoxville-mcghee-tyson-airport/
LOCATION:KTYS – Airport Operations Center\, 100 Cirrus Lndg\, Alcoa\, TN\, 37701\, United States
CATEGORIES:Training
END:VEVENT
BEGIN:VEVENT
DTSTART;TZID=America/New_York:20181105T180000
DTEND;TZID=America/New_York:20181105T203000
DTSTAMP:20260419T122027
CREATED:20181104T182859Z
LAST-MODIFIED:20181104T182859Z
UID:1861-1541440800-1541449800@eaa17.org
SUMMARY:Chapter 17 Regular Monthly Gathering
DESCRIPTION:Gathering to discuss aircraft weight and balance with Max Burnette\, and Remote Area Medical activity with Mark Scheuer. \n  \nCome at 6 PM to get some vittles.
URL:https://eaa17.org/event/chapter-17-regular-monthly-gathering/
LOCATION:KTYS – Airport Operations Center\, 100 Cirrus Lndg\, Alcoa\, TN\, 37701\, United States
CATEGORIES:Club Meetings
END:VEVENT
BEGIN:VEVENT
DTSTART;TZID=America/New_York:20181006T113000
DTEND;TZID=America/New_York:20181006T150000
DTSTAMP:20260419T122027
CREATED:20180213T003204Z
LAST-MODIFIED:20180213T003204Z
UID:1515-1538825400-1538838000@eaa17.org
SUMMARY:Chapter 17 Annual Banquet Luncheon with Sun 'n Fun CEO John Leenhouts
DESCRIPTION:Come to EAA Chapter 17’s Luncheon and get a chance to hear John “Lites” Leenhouts\, President and CEO of the South’s largest EAA Fly-in discuss  his organization and the airshow. \n  \nAnd of course\, excellent food and company of East Tennessee aviators!
URL:https://eaa17.org/event/chapter-17-annual-banquet-luncheon-sun-n-fun-ceo-john-leenhouts/
LOCATION:Bearden Banquet Hall\, 5806 Kingston Pike\, Knoxville\, TN\, 37919\, United States
CATEGORIES:Club Meetings
END:VEVENT
BEGIN:VEVENT
DTSTART;TZID=America/New_York:20180812T130000
DTEND;TZID=America/New_York:20180812T160000
DTSTAMP:20260419T122027
CREATED:20180701T180246Z
LAST-MODIFIED:20180722T184728Z
UID:1612-1534078800-1534089600@eaa17.org
SUMMARY:Second Annual Chapter Fly-in and Picnic to be held at Monroe County Airport (MNV)
DESCRIPTION:Chapter 17 will hold our 2nd Annual Fly-in Picnic at Monroe County Airport (KMNV) in Madisonville.  \n\nFood tickets are $7.50/person and can be purchased onsite or online at:  https://eaa17.org/product/mnv-fly-in-food-ticket/ \nMENU: \n\nPulled Pork\nBaked Beans\nCole Slaw\nRefreshments
URL:https://eaa17.org/event/second-annual-chapter-fly-in-and-picnic-to-be-held-at-monroe-county-airport-mnv/
LOCATION:MNV – Monroe Co.\, Tenn.\, 350 Airport Rd\, Madisonville\, TN\, 37354\, United States
CATEGORIES:Club Meetings,Fly-in
END:VEVENT
BEGIN:VEVENT
DTSTART;TZID=America/New_York:20180806T180000
DTEND;TZID=America/New_York:20180806T203000
DTSTAMP:20260419T122027
CREATED:20180701T172833Z
LAST-MODIFIED:20180701T173006Z
UID:1609-1533578400-1533587400@eaa17.org
SUMMARY:Chapter 17 Monthly Gathering
DESCRIPTION:Regular Chapter 17 Gathering at TYS
URL:https://eaa17.org/event/chapter-17-monthly-gathering-3/
LOCATION:KTYS – Airport Operations Center\, 100 Cirrus Lndg\, Alcoa\, TN\, 37701\, United States
CATEGORIES:Club Meetings
END:VEVENT
BEGIN:VEVENT
DTSTART;TZID=America/New_York:20180702T180000
DTEND;TZID=America/New_York:20180702T203000
DTSTAMP:20260419T122027
CREATED:20180701T172624Z
LAST-MODIFIED:20180701T172624Z
UID:1607-1530554400-1530563400@eaa17.org
SUMMARY:Chapter 17 Monthly Gathering
DESCRIPTION:EAA Chapter 17 Monthly Chapter Gathering. \n  \nAt our July 2nd meeting\, we will break down the success of the B-17 Tour financially\, as well as the WWII History\, and the many veterans from this era that we got to meet. \nRemember that our social time now starts at 6 PM with the meeting starting at 6:30 PM and ends at 8:30 PM. Our chapter will provide the main dish and refreshments as usual\, and we welcome you to bring your favorite deserts to share. See you next Monday July the 2nd
URL:https://eaa17.org/event/chapter-17-monthly-gathering-2/
LOCATION:KTYS – Airport Operations Center\, 100 Cirrus Lndg\, Alcoa\, TN\, 37701\, United States
CATEGORIES:Club Meetings
END:VEVENT
BEGIN:VEVENT
DTSTART;TZID=America/New_York:20180622T080000
DTEND;TZID=America/New_York:20180624T170000
DTSTAMP:20260419T122027
CREATED:20180322T203137Z
LAST-MODIFIED:20180322T204426Z
UID:1541-1529654400-1529859600@eaa17.org
SUMMARY:B-17G Aluminum Overcast Tour
DESCRIPTION:Climb aboard the EAA’s B-17G Aluminum Overcast for a once-in-a-lifetime opportunity to fly in on of the World War II’s most vital aircraft. \nFlights are available at McGhee-Tyson Airport from 10am to 5pm\, June 22nd-24th\, 2018. \nSignup online at:  www.B17.org \n\nGROUND TOURS (2-5pm\, June 22\, 23 & 24) \nIndividuals $10 \nFamilies $20 \nVeterans/Active Duty Military FREE \nChildren 8 & under with paid adult FREE \nFLIGHT EXPERIENCE (10am – 5pm\, June 22\, 23\, 24) \nEAA Members $435 \nNon Members $475 \n\nThe B-17G has a remarkable story. One filled with daring missions and personal sacrifice. \nYou’re now invited to relive that story on a historic flight aboard the EAA’s beautifully restored B-17 Flying Fortress\, Aluminum Overcast. \nMore than just an airplane\, the B-17 is living history that holds a remarkable connection to the past and is the most iconic image of World War II. \nToday\, it serves as a tribute to those known as the greatest generation: the bold men and women who built and served on the heavy bombers in the 1940s. \nRelive the story. Join the flight. \nBuy your flight tickets today. \nWe graciously thank Tempest for helping to keep the B-17 flying. All ticket proceeds support the Experimental Aircraft Association\, a non-profit organization dedicated to sharing The Spirit of Aviation with everyone. Our tour stops are hosted by volunteers who are passionate about sharing the B-17’s stories. \nQuestions? Call 800-359-6217. \n  \n  \n  \nLearn more about EAA Chapter 17’s Young Eagles Program at:  https://eaa17.org/young-eagles-program/ \n  \n 
URL:https://eaa17.org/event/b-17g-aluminum-overcast-tour/
LOCATION:TAC Air-Knoxville\, 2343 W General Aviation Dr.\, Alcoa\, 37701\, United States
CATEGORIES:Airshow
ORGANIZER;CN="Sam Robinson":MAILTO:info@eaa17.org
END:VEVENT
BEGIN:VEVENT
DTSTART;TZID=America/New_York:20180609T080000
DTEND;TZID=America/New_York:20180610T180000
DTSTAMP:20260419T122027
CREATED:20180521T015518Z
LAST-MODIFIED:20180521T020713Z
UID:1582-1528531200-1528653600@eaa17.org
SUMMARY:AEROMART Flymarket at Tullahoma (KTHA)
DESCRIPTION:Buy Sell or Trade your Old Parts. Seller Spots only $5.\nBring your own trailer\, tables\, booths\, floor mats etc. to display your parts.\nYou sell\, no consignments or fees.\nParts Dealers – Food Vendors Invited\nSet UP on Ramp in-front of WWII Hgr. \nThe Aeromart is sponsored by the volunteers of the EAA Chapter 458 Contact Gary Meuer 931-571-1166 moyair@lighttube.net
URL:https://eaa17.org/event/aeromart-flymarket-at-tullahome-ktha/
LOCATION:KTHA\, 807 WILLIAM NORTHERN BLVD.\, TULLAHOMA\, TN\, 37338\, United States
ORGANIZER;CN="EAA Chapter 458":MAILTO:moyair@lighttube.net
END:VEVENT
BEGIN:VEVENT
DTSTART;TZID=America/New_York:20180604T180000
DTEND;TZID=America/New_York:20180604T203000
DTSTAMP:20260419T122027
CREATED:20180521T005634Z
LAST-MODIFIED:20180521T005634Z
UID:1578-1528135200-1528144200@eaa17.org
SUMMARY:June Chapter 17 Gathering
DESCRIPTION:Join us June 4th at 6:00 PM at McGhee Tyson 510 Center for the Monthly Gathering of Chapter 17. See your newsletter for more information.
URL:https://eaa17.org/event/june-chapter-17-gathering/
LOCATION:KTYS – Airport Operations Center\, 100 Cirrus Lndg\, Alcoa\, TN\, 37701\, United States
CATEGORIES:Club Meetings
END:VEVENT
BEGIN:VEVENT
DTSTART;TZID=America/New_York:20180526T163000
DTEND;TZID=America/New_York:20180526T183000
DTSTAMP:20260419T122027
CREATED:20180208T234324Z
LAST-MODIFIED:20180208T234508Z
UID:1509-1527352200-1527359400@eaa17.org
SUMMARY:Cookout at Deerfield Airpark [TN44]
DESCRIPTION:Chapter 17 has been invited back to Deerfield airpark for a cookout. \nSeveral of us flew In for it last year. They are having it a 5pm in case we have to hold the Young Eagles event in the morning due to rain out May 12.
URL:https://eaa17.org/event/cookout-deerfield-airpark-tn44/
LOCATION:Deerfield Resort [TN44]\, 1235 DEERFIELD WAY\, LAFOLLETTE\, TN\, 37766\, United States
CATEGORIES:Fly-in
END:VEVENT
BEGIN:VEVENT
DTSTART;TZID=America/New_York:20180512T090000
DTEND;TZID=America/New_York:20180512T130000
DTSTAMP:20260419T122027
CREATED:20170730T230610Z
LAST-MODIFIED:20180106T210751Z
UID:1329-1526115600-1526130000@eaa17.org
SUMMARY:Young Eagles Rally - May 12\, 2018
DESCRIPTION:EAA Chapter 17 will hold a Young Eagles Rally May 12\, 2018 at Knoxville Downtown Island Airport. \n(Rain Date May 26) \nIf you’re between the ages of 8 and 17 come take a free flight and see what real pilots do on the ground and in the air.
URL:https://eaa17.org/event/1329/
LOCATION:DKX (Downtown Island Airport\, Knoxville\, TN)\, 2701 Spence Pl\, Knoxville\, TN\, 37920\, United States
CATEGORIES:Community Involvement,Young Eagles
END:VEVENT
BEGIN:VEVENT
DTSTART;TZID=America/New_York:20180507T183000
DTEND;TZID=America/New_York:20180507T203000
DTSTAMP:20260419T122027
CREATED:20180213T012623Z
LAST-MODIFIED:20180213T012623Z
UID:1520-1525717800-1525725000@eaa17.org
SUMMARY:Chapter 17 Monthly Gathering at TYS 510 Center
DESCRIPTION:Join Chapter 17 for the monthly gathering.
URL:https://eaa17.org/event/chapter-17-monthly-gathering-tys-510-center/
LOCATION:KTYS – Airport Operations Center\, 100 Cirrus Lndg\, Alcoa\, TN\, 37701\, United States
CATEGORIES:Club Meetings
END:VEVENT
BEGIN:VEVENT
DTSTART;VALUE=DATE:20180410
DTEND;VALUE=DATE:20180416
DTSTAMP:20260419T122027
CREATED:20180113T182855Z
LAST-MODIFIED:20180113T182855Z
UID:1496-1523318400-1523836799@eaa17.org
SUMMARY:Sun n Fun 2018 International Fly-in and Expo
DESCRIPTION:
URL:https://eaa17.org/event/sun-n-fun-2018-international-fly-expo/
LOCATION:Lakeland Florida Airport\, 4175 Medulla Rd\, Lakeland\, FL\, 33811\, United States
END:VEVENT
END:VCALENDAR