BEGIN:VCALENDAR
VERSION:2.0
PRODID:-//EAA Chapter 17 - East Tennessee - ECPv6.15.20//NONSGML v1.0//EN
CALSCALE:GREGORIAN
METHOD:PUBLISH
X-WR-CALNAME:EAA Chapter 17 - East Tennessee
X-ORIGINAL-URL:https://eaa17.org
X-WR-CALDESC:Events for EAA Chapter 17 - East Tennessee
REFRESH-INTERVAL;VALUE=DURATION:PT1H
X-Robots-Tag:noindex
X-PUBLISHED-TTL:PT1H
BEGIN:VTIMEZONE
TZID:America/Kentucky/Louisville
BEGIN:DAYLIGHT
TZOFFSETFROM:-0500
TZOFFSETTO:-0400
TZNAME:EDT
DTSTART:20150308T070000
END:DAYLIGHT
BEGIN:STANDARD
TZOFFSETFROM:-0400
TZOFFSETTO:-0500
TZNAME:EST
DTSTART:20151101T060000
END:STANDARD
BEGIN:DAYLIGHT
TZOFFSETFROM:-0500
TZOFFSETTO:-0400
TZNAME:EDT
DTSTART:20160313T070000
END:DAYLIGHT
BEGIN:STANDARD
TZOFFSETFROM:-0400
TZOFFSETTO:-0500
TZNAME:EST
DTSTART:20161106T060000
END:STANDARD
BEGIN:DAYLIGHT
TZOFFSETFROM:-0500
TZOFFSETTO:-0400
TZNAME:EDT
DTSTART:20170312T070000
END:DAYLIGHT
BEGIN:STANDARD
TZOFFSETFROM:-0400
TZOFFSETTO:-0500
TZNAME:EST
DTSTART:20171105T060000
END:STANDARD
END:VTIMEZONE
BEGIN:VTIMEZONE
TZID:America/New_York
BEGIN:DAYLIGHT
TZOFFSETFROM:-0500
TZOFFSETTO:-0400
TZNAME:EDT
DTSTART:20150308T070000
END:DAYLIGHT
BEGIN:STANDARD
TZOFFSETFROM:-0400
TZOFFSETTO:-0500
TZNAME:EST
DTSTART:20151101T060000
END:STANDARD
BEGIN:DAYLIGHT
TZOFFSETFROM:-0500
TZOFFSETTO:-0400
TZNAME:EDT
DTSTART:20160313T070000
END:DAYLIGHT
BEGIN:STANDARD
TZOFFSETFROM:-0400
TZOFFSETTO:-0500
TZNAME:EST
DTSTART:20161106T060000
END:STANDARD
BEGIN:DAYLIGHT
TZOFFSETFROM:-0500
TZOFFSETTO:-0400
TZNAME:EDT
DTSTART:20170312T070000
END:DAYLIGHT
BEGIN:STANDARD
TZOFFSETFROM:-0400
TZOFFSETTO:-0500
TZNAME:EST
DTSTART:20171105T060000
END:STANDARD
END:VTIMEZONE
BEGIN:VEVENT
DTSTART;TZID=America/Kentucky/Louisville:20160416T080000
DTEND;TZID=America/Kentucky/Louisville:20160418T170000
DTSTAMP:20260420T025205
CREATED:20160208T023616Z
LAST-MODIFIED:20160208T023924Z
UID:119-1460793600-1460998800@eaa17.org
SUMMARY:Smoky Mountain Air Show
DESCRIPTION:The Smoky Mountain Air Show Partnership is pleased to announce that Vanquish Worldwide\, along with sister companies Business Owners Benefits Association and Peak Technical Institute\, will be the premier sponsors for the 2016 Smoky Mountain Air Show.
URL:https://eaa17.org/event/smoky-mountain-air-show/
LOCATION:McGhee-Tyson Airport\, 2055 Alcoa Hwy\, Alcoa\, TN\, 37701\, United States
CATEGORIES:Airshow
END:VEVENT
BEGIN:VEVENT
DTSTART;TZID=America/Kentucky/Louisville:20160416T080000
DTEND;TZID=America/Kentucky/Louisville:20160416T120000
DTSTAMP:20260420T025205
CREATED:20160322T223600Z
LAST-MODIFIED:20160322T223600Z
UID:312-1460793600-1460808000@eaa17.org
SUMMARY:Third Saturday Breakfast : CAP Cleveland (RZR)
DESCRIPTION:Help us support the Civil Air Patrol for this Third Saturday breakfast in Cleveland\, Tenn.
URL:https://eaa17.org/event/third-saturday-breakfast-cap-cleveland-rzr/
LOCATION:RZR – Cleveland (TN) Regional Jetport\, 251 DRY VALLEY ROAD NE \, CLEVELAND\, TN\, 37312\, United States
CATEGORIES:Civil Air Patrol,Fly-in
END:VEVENT
BEGIN:VEVENT
DTSTART;TZID=America/New_York:20160409T080000
DTEND;TZID=America/New_York:20160409T120000
DTSTAMP:20260420T025205
CREATED:20160322T223307Z
LAST-MODIFIED:20160322T223307Z
UID:310-1460188800-1460203200@eaa17.org
SUMMARY:Second Saturday Breakfast : Monroe Co. (MNV)
DESCRIPTION:Join us in Monroe County\, Tennessee\, for the second Saturday breakfast fly-in.
URL:https://eaa17.org/event/second-saturday-breakfast-monroe-co-mnv/
LOCATION:MNV – Monroe Co.\, Tenn.\, 350 Airport Rd\, Madisonville\, TN\, 37354\, United States
CATEGORIES:Fly-in
END:VEVENT
BEGIN:VEVENT
DTSTART;VALUE=DATE:20160405
DTEND;VALUE=DATE:20160411
DTSTAMP:20260420T025205
CREATED:20160312T162716Z
LAST-MODIFIED:20160312T162823Z
UID:287-1459814400-1460332799@eaa17.org
SUMMARY:Sun 'n Fun 2016
DESCRIPTION:http://www.sun-n-fun.org/sun-n-fun-intl-fly-in-expo/
URL:https://eaa17.org/event/sun-n-fun-2016/
LOCATION:Lakeland Florida Airport\, 4175 Medulla Rd\, Lakeland\, FL\, 33811\, United States
END:VEVENT
BEGIN:VEVENT
DTSTART;TZID=America/New_York:20160402T080000
DTEND;TZID=America/New_York:20160402T120000
DTSTAMP:20260420T025205
CREATED:20160322T222605Z
LAST-MODIFIED:20160322T223354Z
UID:308-1459584000-1459598400@eaa17.org
SUMMARY:First Saturday Breakfast : Gwinnett Co. (LZU)
DESCRIPTION:Join us for first Saturday breakfast at EAA Chapter 690 in Gwinnett Co. (LZU) \n  \nhttp://www.690.eaachapter.org \n 
URL:https://eaa17.org/event/first-saturday-breakfast-gwinnett-co-lzu/
LOCATION:LZU (Briscoe Field Airport)\, 600 Briscoe Blvd\, Lawrenceville\, GA\, 30046\, United States
CATEGORIES:Fly-in
END:VEVENT
BEGIN:VEVENT
DTSTART;TZID=America/Kentucky/Louisville:20160326T090000
DTEND;TZID=America/Kentucky/Louisville:20160326T150000
DTSTAMP:20260420T025205
CREATED:20160308T125222Z
LAST-MODIFIED:20160308T125851Z
UID:256-1458982800-1459004400@eaa17.org
SUMMARY:2nd Annual Southeast Tennessee Fly-in Poker Run
DESCRIPTION:FREE LUNCH!  PRIZES!  FREE FUEL!\nJoin us for a great time of flying\, food and fun. \n$10 entry fee per person \n1 card given at each stop and 2 cards given at RZR. \nVisit all airports in any order with RZR being your last stop. \nBest poker hand of 5 cards wins the pot. \nLunch will be served at 1200 and prizes will be awarded at 1230. \n  \nStarts at 0900.  Ends at RZR at 1300. \nLOCATIONS: \nDKX – Downtown Island Airport (Knoxville\, Tenn.)\n2A0 – Mark Antone Airport (Dayton\, Tenn.)\nMMI – McMinn County Airport (Athens\, Tenn.)\nFGU – Collegedale Municipal Airport (Collegedale\, Tenn.)\nRZR – Cleveland Regional Jetport (Cleveland\, Tenn.) \nRULES: \n\nAll applicants much register with the front desk at RZR no later than 1700 on March 25th\, 2016\, by calling (423) 472-4343.\nMoney will be collected at the final stop which is RZR Cleveland Regional Airport.\nWinner with the best poker hand of 5 cards wins all the entry fees.\nYou may stop at each location in any order\, however\, you last stop should be at RZR.\nYou will be given 1 playing card at each location and 2 cards at the final location (RZR) with a total of 6 cards at the end of the event.\nMake the best poker hand of 5 cards to win.\n\nFUN STUFF: \n\nFree lunch starting at 1300 at RZR.\nRhea County Civil Air Patrol is hosting their monthly breakfast at 2A0.\nGiveaways.\nFun!  Fun!  Fun!\n\nSPONSORED BY:
URL:https://eaa17.org/event/2nd-annual-southeast-tennessee-fly-in-poker-run/
LOCATION:RZR – Cleveland (TN) Regional Jetport\, 251 DRY VALLEY ROAD NE \, CLEVELAND\, TN\, 37312\, United States
CATEGORIES:Fly-in
END:VEVENT
BEGIN:VEVENT
DTSTART;TZID=America/New_York:20160312T100000
DTEND;TZID=America/New_York:20160312T120000
DTSTAMP:20260420T025205
CREATED:20160312T161316Z
LAST-MODIFIED:20160312T161316Z
UID:283-1457776800-1457784000@eaa17.org
SUMMARY:RAM Youth Flight
DESCRIPTION:
URL:https://eaa17.org/event/ram-youth-flight/
LOCATION:98 TN (River’s Edge Airport)\, 751 Clubhouse Drive\, Blaine\, TN\, 37709\, United States
CATEGORIES:Young Eagles
END:VEVENT
BEGIN:VEVENT
DTSTART;TZID=America/Kentucky/Louisville:20160312T080000
DTEND;TZID=America/Kentucky/Louisville:20160312T120000
DTSTAMP:20260420T025205
CREATED:20160312T161441Z
LAST-MODIFIED:20160312T161441Z
UID:284-1457769600-1457784000@eaa17.org
SUMMARY:Civil Air Patrol Breakfast
DESCRIPTION:
URL:https://eaa17.org/event/civil-air-patrol-breakfast/
LOCATION:RZR – Cleveland (TN) Regional Jetport\, 251 DRY VALLEY ROAD NE \, CLEVELAND\, TN\, 37312\, United States
CATEGORIES:Civil Air Patrol,Fly-in
END:VEVENT
BEGIN:VEVENT
DTSTART;TZID=America/Kentucky/Louisville:20160307T183000
DTEND;TZID=America/Kentucky/Louisville:20160307T210000
DTSTAMP:20260420T025205
CREATED:20160208T024542Z
LAST-MODIFIED:20160208T025314Z
UID:115-1457375400-1457384400@eaa17.org
SUMMARY:March 2016 Regular Monthly Meeting
DESCRIPTION:Chapter 17 of the Experimental Aircraft Association meets every month at Sky Ranch Airport to conduct business\, socialize and present special programming. \nThis month’s program is to be determined; however\, all visitors and newcomers who are interested in aviation are welcome to join us for the evening.
URL:https://eaa17.org/event/march-2016-regular-monthly-meeting/
LOCATION:Sky Ranch Airport (TN98)\, 3535 Alcoa Hwy\, Knoxville\, TN\, 37920\, United States
END:VEVENT
BEGIN:VEVENT
DTSTART;TZID=America/New_York:20160228T103000
DTEND;TZID=America/New_York:20160228T140000
DTSTAMP:20260420T025205
CREATED:20160226T131807Z
LAST-MODIFIED:20160226T132515Z
UID:242-1456655400-1456668000@eaa17.org
SUMMARY:Young Eagles Flight
DESCRIPTION:
URL:https://eaa17.org/event/young-eagles-flight/
LOCATION:98 TN (River’s Edge Airport)\, 751 Clubhouse Drive\, Blaine\, TN\, 37709\, United States
CATEGORIES:Young Eagles
ORGANIZER;CN="Gordon Meyer":MAILTO:youngeagles@eaa17.org
END:VEVENT
BEGIN:VEVENT
DTSTART;TZID=America/Kentucky/Louisville:20160227T080000
DTEND;TZID=America/Kentucky/Louisville:20160227T120000
DTSTAMP:20260420T025205
CREATED:20160312T161926Z
LAST-MODIFIED:20160312T162009Z
UID:285-1456560000-1456574400@eaa17.org
SUMMARY:Civil Air Patrol Breakfast:  Dayton
DESCRIPTION:
URL:https://eaa17.org/event/civil-air-patrol-breakfast-dayton/
LOCATION:2A0 (Dayton)\, 350 WALTER SQUIRE RD\, DAYTON\, TN\, 37321\, United States
CATEGORIES:Civil Air Patrol,Fly-in
END:VEVENT
BEGIN:VEVENT
DTSTART;TZID=America/Kentucky/Louisville:20160213T100000
DTEND;TZID=America/Kentucky/Louisville:20160213T150000
DTSTAMP:20260420T025205
CREATED:20160212T200912Z
LAST-MODIFIED:20241125T231242Z
UID:230-1455357600-1455375600@eaa17.org
SUMMARY:iPad & Foreflight Training
DESCRIPTION:Did you get an iPAD for Christmas? Are you overwhelmed in learning how to realize the potential of the available In cockpit navigational programs available ?  Do you have a program loaded and ‘sort of’ know how to use it?  Would you like to make a quantum leap in your knowledge of this amazing technology? Or maybe you are considering buying a tablet and a navigational program\, and just want to learn more? Well\, here is your opportunity! \n\n\nAs a benefit of your membership in Chapter 17 and the generosity of Chapter 17 ForeFlight Users\, you are invited to a FREE\, comprehensive training session on the iPad and ForeFlight. \n\n\nWe are fortunate to have in our Chapter Joe Marshall and Tony Vermillion who are very skilled with the use of the IPad and Foreflight\, and they have agreed to provide us with a follow up and update of their 2013 seminar.  This year\, the program will be greatly expanded.  To make it even better\, McGhee-Tyson (MKAA) is providing us the use of their training facility\, complete with audio visual equipment\, and a true class room environment. (2950 Airfield Service Drive\, Alcoa 37701 \,Building #510) \n\n\nThis program will be conducted in two segments. The first will be a basic session to get new and intermediate users ‘on the same page’.  There is a whole lot to assimilate\, and if these basics are not understood\, the more advanced features are difficult to learn.  The objective will start with loading software\, work through basic set up and settings\, optimizing the iPad and battery\, and progress through downloading data and navigating Foreflight menus.  By the end of this approximately two hour session\, everyone will be able to plan and create a comprehensive VFR flight plan from one airport to another\, and learn how to store this plan.  There will be plenty for the intermediate and advanced users to learn……and they can help the beginning user. Jerry Depew and Tom Roush will conduct this session. \n\n\nAfter an hour lunch break (brown bag\, or fast food across 129 at one of the many fast food places\, or maybe order a pizza or two. \n\n\n The second session will pick up where the first session left off with Tony and  Joe teaching advanced techniques.  Weather forecasting\, prog charts\, winds aloft\, check lists\, document storage\, multiple leg flight plans\, filing of flight plans\, short cuts\, trouble shooting\, using the touch screen\,  airport and taxi diagrams\, creating way points\, ADS-B via Stratus\, including ‘free weather’ \, and the advantages (or not) of buying the Pro Version. \n\n\n With ForeFlight updating and improving their program weekly\, there is always something new to learn.  Time permitting\, use of Foreflight as a back up to IFR flight instrumentation will be included. \n\n\n REQUIREMENTS FOR ATTENDING. \n\n\nYou MUST register. Name\, telephone number\, email address\, and EAA and/or Chapter 17 member or not. You do not have to be a member\, but you MUST pre register. Send this information to Tom Roush\, mtntom2@aol.com  No later than Friday morning\n\nIf you are not sure if you are coming or not\, please register anyway. Please. \n\nYou MUST have an iPad or iPad Mini.  (Buy\, Beg\, borrow\, or steal). Really\, this is a condition of attending.\n\nYour IPad MUST have Foreflight.  A free 30 day version is available on iTunes. \n\n\nSorry\, but other navigational programs such as WingX Pro and Garmin are outside the scope of this program. \n\n\nPLEASE WATCH Foreflight 101 and Foreflight 201 before you come (click the links to launch the videos). \n\n\n\n\n\n\nIt will be helpful and time saving if at least Tennessee and surrounding state charts are preloaded into Foreflight.\n\n\n\n\nAlso helpful will be to load in the performance information on your favorite airplane. If you don’t have a favorite\, use a Cessna 172 P.\n\n\n\nAn iPhone\, even the 6s\,  while a decent back up to the iPad\, does NOT run the same software as the tablet and will cause you confusion during the class\, unless you are a really advanced user.  Bring it as an adjunct to your iPad\, if you wish.\nIdeally\, your WiFi IPad is much more versatile with an internal GPS\, and  cellular data subscription\, but don’t get these for this class.\n\n\n\nIf you have STRATUS\, please bring it.\n\n\n\n\nWiFi will be available.
URL:https://eaa17.org/event/ipad-foreflight-training/
LOCATION:KTYS – Airport Operations Center\, 100 Cirrus Lndg\, Alcoa\, TN\, 37701\, United States
CATEGORIES:Training
ORGANIZER;CN="Tom Roush":MAILTO:mtntom2@aol.com
END:VEVENT
BEGIN:VEVENT
DTSTART;TZID=America/New_York:20160206T080000
DTEND;TZID=America/New_York:20160206T093000
DTSTAMP:20260420T025206
CREATED:20160312T161147Z
LAST-MODIFIED:20160312T161147Z
UID:281-1454745600-1454751000@eaa17.org
SUMMARY:1st Saturday Breakfast:  Gwinnett County
DESCRIPTION:
URL:https://eaa17.org/event/1st-saturday-breakfast/
LOCATION:LZU (Briscoe Field Airport)\, 600 Briscoe Blvd\, Lawrenceville\, GA\, 30046\, United States
CATEGORIES:Fly-in
END:VEVENT
BEGIN:VEVENT
DTSTART;TZID=America/New_York:20160201T183000
DTEND;TZID=America/New_York:20160201T200000
DTSTAMP:20260420T025206
CREATED:20160312T160733Z
LAST-MODIFIED:20160312T160733Z
UID:280-1454351400-1454356800@eaa17.org
SUMMARY:EAA Chapter 17 60th Birthday Party
DESCRIPTION:
URL:https://eaa17.org/event/eaa-chapter-17-60th-birthday-party/
LOCATION:Sky Ranch Airport (TN98)\, 3535 Alcoa Hwy\, Knoxville\, TN\, 37920\, United States
CATEGORIES:Club Meetings
END:VEVENT
END:VCALENDAR